BEGIN:VCALENDAR
VERSION:2.0
PRODID:Imitheme.com 
BEGIN:VEVENT
UID:20260421T095852939645491
DTSTAMP;TZID=UTC:2026-04-21 09:58:52
DTSTART;TZID=Europe/London:20260421T095852
DTEND;TZID=:Europe/London20260421T095852
SUMMARY:Christmas Day Mass
LOCATION:
DESCRIPTION:
URL:https://www.olsd.org.uk/eventer/morning-mass-139/
END:VEVENT
END:VCALENDAR
