BEGIN:VCALENDAR
VERSION:2.0
PRODID:Imitheme.com 
BEGIN:VEVENT
UID:20260422T232338647644803
DTSTAMP;TZID=UTC:2026-04-22 23:23:38
DTSTART;TZID=Europe/London:20260422T232338
DTEND;TZID=:Europe/London20260422T232338
SUMMARY:Eucharistic Adoration
LOCATION:
DESCRIPTION:
URL:https://www.olsd.org.uk/eventer/eucharistic-adoration-2/
END:VEVENT
END:VCALENDAR
