BEGIN:VCALENDAR
VERSION:2.0
PRODID:Imitheme.com 
BEGIN:VEVENT
UID:20260424T0017421727658803
DTSTAMP;TZID=UTC:2026-04-24 00:17:42
DTSTART;TZID=Europe/London:20260424T001742
DTEND;TZID=:Europe/London20260424T001742
SUMMARY:Morning Mass (Note earlier time)
LOCATION:
DESCRIPTION:
URL:https://www.olsd.org.uk/eventer/morning-mass-57/
END:VEVENT
END:VCALENDAR
