BEGIN:VCALENDAR
VERSION:2.0
PRODID:Imitheme.com 
BEGIN:VEVENT
UID:20260422T093831255974211
DTSTAMP;TZID=UTC:2026-04-22 09:38:31
DTSTART;TZID=Europe/London:20260422T093831
DTEND;TZID=:Europe/London20260422T093831
SUMMARY:Morning Mass
LOCATION:
DESCRIPTION:
URL:https://www.olsd.org.uk/eventer/morning-mass-56/
END:VEVENT
END:VCALENDAR
