BEGIN:VCALENDAR
VERSION:2.0
PRODID:Imitheme.com 
BEGIN:VEVENT
UID:20260425T020840945369617
DTSTAMP;TZID=UTC:2026-04-25 02:08:40
DTSTART;TZID=Europe/London:20260425T020840
DTEND;TZID=:Europe/London20260425T020840
SUMMARY:Vigil Mass
LOCATION:
DESCRIPTION:
URL:https://www.olsd.org.uk/eventer/vigil-mass-9/
END:VEVENT
END:VCALENDAR
