BEGIN:VCALENDAR
VERSION:2.0
PRODID:Imitheme.com 
BEGIN:VEVENT
UID:20260421T2234291221956707
DTSTAMP;TZID=UTC:2026-04-21 22:34:29
DTSTART;TZID=Europe/London:20260421T223429
DTEND;TZID=:Europe/London20260421T223429
SUMMARY:Sunday Mass
LOCATION:
DESCRIPTION:
URL:https://www.olsd.org.uk/eventer/sunday-mass-10/
END:VEVENT
END:VCALENDAR
