BEGIN:VCALENDAR
VERSION:2.0
PRODID:Imitheme.com 
BEGIN:VEVENT
UID:20260424T232513229215270
DTSTAMP;TZID=UTC:2026-04-24 23:25:13
DTSTART;TZID=Europe/London:20260424T232513
DTEND;TZID=:Europe/London20260424T232513
SUMMARY:Morning Mass
LOCATION:
DESCRIPTION:
URL:https://www.olsd.org.uk/eventer/morning-mass-4/
END:VEVENT
END:VCALENDAR
