BEGIN:VCALENDAR
VERSION:2.0
PRODID:Imitheme.com 
BEGIN:VEVENT
UID:20260421T0220361262252505
DTSTAMP;TZID=UTC:2026-04-21 02:20:36
DTSTART;TZID=Europe/London:20260421T022036
DTEND;TZID=:Europe/London20260421T022036
SUMMARY:Morning Mass
LOCATION:
DESCRIPTION:
URL:https://www.olsd.org.uk/eventer/morning-mass-5/
END:VEVENT
END:VCALENDAR
